BEGIN:VCALENDAR
VERSION:2.0
PRODID:-//Kirkby Lonsdale - ECPv6.15.20//NONSGML v1.0//EN
CALSCALE:GREGORIAN
METHOD:PUBLISH
X-WR-CALNAME:Kirkby Lonsdale
X-ORIGINAL-URL:https://www.kirkbylonsdale.co.uk
X-WR-CALDESC:Events for Kirkby Lonsdale
REFRESH-INTERVAL;VALUE=DURATION:PT1H
X-Robots-Tag:noindex
X-PUBLISHED-TTL:PT1H
BEGIN:VTIMEZONE
TZID:Europe/London
BEGIN:DAYLIGHT
TZOFFSETFROM:+0000
TZOFFSETTO:+0100
TZNAME:BST
DTSTART:20250330T010000
END:DAYLIGHT
BEGIN:STANDARD
TZOFFSETFROM:+0100
TZOFFSETTO:+0000
TZNAME:GMT
DTSTART:20251026T010000
END:STANDARD
BEGIN:DAYLIGHT
TZOFFSETFROM:+0000
TZOFFSETTO:+0100
TZNAME:BST
DTSTART:20260329T010000
END:DAYLIGHT
BEGIN:STANDARD
TZOFFSETFROM:+0100
TZOFFSETTO:+0000
TZNAME:GMT
DTSTART:20261025T010000
END:STANDARD
BEGIN:DAYLIGHT
TZOFFSETFROM:+0000
TZOFFSETTO:+0100
TZNAME:BST
DTSTART:20270328T010000
END:DAYLIGHT
BEGIN:STANDARD
TZOFFSETFROM:+0100
TZOFFSETTO:+0000
TZNAME:GMT
DTSTART:20271031T010000
END:STANDARD
END:VTIMEZONE
BEGIN:VEVENT
DTSTART;TZID=Europe/London:20260205T100000
DTEND;TZID=Europe/London:20260205T150000
DTSTAMP:20260418T182924
CREATED:20250523T080809Z
LAST-MODIFIED:20250523T080950Z
UID:10000944-1770285600-1770303600@www.kirkbylonsdale.co.uk
SUMMARY:Crafts & Collectibles Market
DESCRIPTION:New to Kirby Lonsdale is a Crafts & Collectables market to be held every Thursday (Market day)\, between 10am and 3pm. \nThere’s also a “Fresh Food Café” with tasty homemade eat in or takeaway food\, including vegetarian options. \nCome & join us we would love to see you. \nSupporting the upkeep of Lunesdale Hall.
URL:https://www.kirkbylonsdale.co.uk/event/crafts-collectibles-market-2/2026-02-05/
LOCATION:Lunesdale Hall\, Bective Road\, Kirkby Lonsdale\, LA6 2BG
CATEGORIES:Arts & Crafts,Food & Drink,Market,Shopping
ATTACH;FMTTYPE=image/jpeg:https://www.kirkbylonsdale.co.uk/wp-content/uploads/2025/05/crafts-and-collectibles-market-lunesdale-hall.jpg
END:VEVENT
BEGIN:VEVENT
DTSTART;TZID=Europe/London:20260212T100000
DTEND;TZID=Europe/London:20260212T150000
DTSTAMP:20260418T182924
CREATED:20250523T080809Z
LAST-MODIFIED:20250523T080950Z
UID:10000945-1770890400-1770908400@www.kirkbylonsdale.co.uk
SUMMARY:Crafts & Collectibles Market
DESCRIPTION:New to Kirby Lonsdale is a Crafts & Collectables market to be held every Thursday (Market day)\, between 10am and 3pm. \nThere’s also a “Fresh Food Café” with tasty homemade eat in or takeaway food\, including vegetarian options. \nCome & join us we would love to see you. \nSupporting the upkeep of Lunesdale Hall.
URL:https://www.kirkbylonsdale.co.uk/event/crafts-collectibles-market-2/2026-02-12/
LOCATION:Lunesdale Hall\, Bective Road\, Kirkby Lonsdale\, LA6 2BG
CATEGORIES:Arts & Crafts,Food & Drink,Market,Shopping
ATTACH;FMTTYPE=image/jpeg:https://www.kirkbylonsdale.co.uk/wp-content/uploads/2025/05/crafts-and-collectibles-market-lunesdale-hall.jpg
END:VEVENT
BEGIN:VEVENT
DTSTART;TZID=Europe/London:20260214T110000
DTEND;TZID=Europe/London:20260214T150000
DTSTAMP:20260418T182924
CREATED:20251219T212855Z
LAST-MODIFIED:20260211T131907Z
UID:10002516-1771066800-1771081200@www.kirkbylonsdale.co.uk
SUMMARY:Grasmere Gingerbread Pop Up Shop
DESCRIPTION:An opportunity to sample and buy some famous Grasmere Gingerbread – a mouth-watering spicy-sweet cross between a biscuit and a cake. \nFor Valentines Day we have additional products for collection\, only if you pre-order: Our Grasmere Gingerbread® Valentine’s Day Large Naked Heart\, as well as our Traditional Presentation Tins\, which comes with the choice of either 4 or 6 small hearts \nTo pre-order\, please call 015394 35428 before 2pm on Friday 13th February. \nGrasmere Gingerbread\nGrasmere Gingerbread® was invented in 1854 by Victorian creator cook Sarah Nelson who mixed and baked her spicy-sweet chewy concoction inside her neat Church Cottage home – now The Grasmere Gingerbread Shop – and sold it to villagers and visitors from a table top on a tree stump outside her front door. \nNeither a biscuit nor a cake\, but somewhere in between\, no-one had ever tasted anything quite like it before. Whilst she did not at first give up her regular work at Dale Lodge\, Sarah began selling slices of Grasmere Gingerbread® wrapped in parchment to villagers and tourists outside her neat home. \nOfficially registered as ‘None Genuine Without Trademark’\, the launch of Grasmere Gingerbread® coincided with the development and expansion of the railways and the boom in Victorian visitors to the Lake District. \nWithin a few years its reputation had reached nearly every corner of the country and with the advent of the steam railways tourists flocked to Grasmere to buy her succulent invention. \nHer wonderful spicy-sweet cross between a biscuit and cake enjoys a worldwide following and it is still baked fresh every day to her secret recipe inside her former home\, now The Grasmere Gingerbread Shop.
URL:https://www.kirkbylonsdale.co.uk/event/grasmere-gingerbread-pop-up-shop/
LOCATION:Kirkby Lonsdale Information and Gift Shop\, 29 Main Street\, LA6 2AH
CATEGORIES:Food & Drink,Shopping
ATTACH;FMTTYPE=image/jpeg:https://www.kirkbylonsdale.co.uk/wp-content/uploads/2025/12/grasmere-gingerbread-popup-shop-december-2025.jpg
END:VEVENT
BEGIN:VEVENT
DTSTART;TZID=Europe/London:20260215T113000
DTEND;TZID=Europe/London:20260215T150000
DTSTAMP:20260418T182924
CREATED:20250206T123312Z
LAST-MODIFIED:20260209T102855Z
UID:10000046-1771155000-1771167600@www.kirkbylonsdale.co.uk
SUMMARY:Open Garden Snowdrop Event
DESCRIPTION:Come and explore the stunning Whelprigg House near Kirkby Lonsdale at a special Open Garden Snowdrop Event! \nTake in the stunning blanket of snowdrops on the fellside parkland\, then explore the beautiful house itself. Treat yourself to delicious bakes with a tea or coffee and enjoy a browse of our Bric-A-Brac and Plant Sales! \nAll to support your local hospice\, St John’s Hospice. \n£5 entry (includes hot drink and biscuit)\, Under 10’s free!  11.30am – 3pm
URL:https://www.kirkbylonsdale.co.uk/event/open-garden-snowdrop-event/
LOCATION:Whelprigg House\, Kirkby Lonsdale\, LA6 2LF
CATEGORIES:Activities,Family Friendly,Food & Drink,Gardening,Shopping
ATTACH;FMTTYPE=image/jpeg:https://www.kirkbylonsdale.co.uk/wp-content/uploads/2025/02/snowdrop-open-garden-february-2026.jpg
END:VEVENT
BEGIN:VEVENT
DTSTART;TZID=Europe/London:20260219T100000
DTEND;TZID=Europe/London:20260219T150000
DTSTAMP:20260418T182925
CREATED:20250523T080809Z
LAST-MODIFIED:20250523T080950Z
UID:10000946-1771495200-1771513200@www.kirkbylonsdale.co.uk
SUMMARY:Crafts & Collectibles Market
DESCRIPTION:New to Kirby Lonsdale is a Crafts & Collectables market to be held every Thursday (Market day)\, between 10am and 3pm. \nThere’s also a “Fresh Food Café” with tasty homemade eat in or takeaway food\, including vegetarian options. \nCome & join us we would love to see you. \nSupporting the upkeep of Lunesdale Hall.
URL:https://www.kirkbylonsdale.co.uk/event/crafts-collectibles-market-2/2026-02-19/
LOCATION:Lunesdale Hall\, Bective Road\, Kirkby Lonsdale\, LA6 2BG
CATEGORIES:Arts & Crafts,Food & Drink,Market,Shopping
ATTACH;FMTTYPE=image/jpeg:https://www.kirkbylonsdale.co.uk/wp-content/uploads/2025/05/crafts-and-collectibles-market-lunesdale-hall.jpg
END:VEVENT
BEGIN:VEVENT
DTSTART;TZID=Europe/London:20260226T100000
DTEND;TZID=Europe/London:20260226T150000
DTSTAMP:20260418T182925
CREATED:20250523T080809Z
LAST-MODIFIED:20250523T080950Z
UID:10000947-1772100000-1772118000@www.kirkbylonsdale.co.uk
SUMMARY:Crafts & Collectibles Market
DESCRIPTION:New to Kirby Lonsdale is a Crafts & Collectables market to be held every Thursday (Market day)\, between 10am and 3pm. \nThere’s also a “Fresh Food Café” with tasty homemade eat in or takeaway food\, including vegetarian options. \nCome & join us we would love to see you. \nSupporting the upkeep of Lunesdale Hall.
URL:https://www.kirkbylonsdale.co.uk/event/crafts-collectibles-market-2/2026-02-26/
LOCATION:Lunesdale Hall\, Bective Road\, Kirkby Lonsdale\, LA6 2BG
CATEGORIES:Arts & Crafts,Food & Drink,Market,Shopping
ATTACH;FMTTYPE=image/jpeg:https://www.kirkbylonsdale.co.uk/wp-content/uploads/2025/05/crafts-and-collectibles-market-lunesdale-hall.jpg
END:VEVENT
END:VCALENDAR