BEGIN:VCALENDAR
VERSION:2.0
PRODID:-//Kirkby Lonsdale - ECPv6.15.20//NONSGML v1.0//EN
CALSCALE:GREGORIAN
METHOD:PUBLISH
X-WR-CALNAME:Kirkby Lonsdale
X-ORIGINAL-URL:https://www.kirkbylonsdale.co.uk
X-WR-CALDESC:Events for Kirkby Lonsdale
REFRESH-INTERVAL;VALUE=DURATION:PT1H
X-Robots-Tag:noindex
X-PUBLISHED-TTL:PT1H
BEGIN:VTIMEZONE
TZID:Europe/London
BEGIN:DAYLIGHT
TZOFFSETFROM:+0000
TZOFFSETTO:+0100
TZNAME:BST
DTSTART:20250330T010000
END:DAYLIGHT
BEGIN:STANDARD
TZOFFSETFROM:+0100
TZOFFSETTO:+0000
TZNAME:GMT
DTSTART:20251026T010000
END:STANDARD
BEGIN:DAYLIGHT
TZOFFSETFROM:+0000
TZOFFSETTO:+0100
TZNAME:BST
DTSTART:20260329T010000
END:DAYLIGHT
BEGIN:STANDARD
TZOFFSETFROM:+0100
TZOFFSETTO:+0000
TZNAME:GMT
DTSTART:20261025T010000
END:STANDARD
BEGIN:DAYLIGHT
TZOFFSETFROM:+0000
TZOFFSETTO:+0100
TZNAME:BST
DTSTART:20270328T010000
END:DAYLIGHT
BEGIN:STANDARD
TZOFFSETFROM:+0100
TZOFFSETTO:+0000
TZNAME:GMT
DTSTART:20271031T010000
END:STANDARD
END:VTIMEZONE
BEGIN:VEVENT
DTSTART;TZID=Europe/London:20260330T090000
DTEND;TZID=Europe/London:20260330T160000
DTSTAMP:20260415T191858
CREATED:20260326T002711Z
LAST-MODIFIED:20260326T002711Z
UID:10002652-1774861200-1774886400@www.kirkbylonsdale.co.uk
SUMMARY:Coach Gunn Multi Sports & Activity Day
DESCRIPTION:Fun with Coach Gunn is back in Kirkby Lonsdale for the Easter Holidays! A day filled with multi sport fun for kids\, reception through to year 7\, at the Lunesdale Sports Hall. \nEach day will be… \n\n9am-4pm (with FREE 7:45am onwards drop off and up to 5pm pick up available)\nFull Day @ £24 per child = 9am-4pm with 7:45am-5pm extended hours\nHalf Day @ £15 per child = 7:45am-12:30pm / 12:30pm-5pm\nOpen to children starting Reception in September 2026 to current Y7 children with additional opportunities for Junior Coaches aged 13-17 plus Lead Coaches aged 18+.\n\nEach holiday club during 2026 will be led by Coach Gunn with a team of Lead & Junior Coaches featuring the below activities encouraging ALL the children to have lots of #FUNwithFriends… \n\nMulti Sports (Football\, Hockey\, Tag Rugby\, Basketball\, Dodgeball\, etc…)\nFUN games (Tag\, Detective\, Musical\, etc…)\nBouncy Castle\, Zorbs & Floor Surfing\nArchery & NERF challenges\nUV FUN games (Tag Games\, Face Painting\, Football\, Basketball\, Dodgeball\, Music\, etc…)\nPlatforms trampette & gymnastics mats\nLego & Let’s Craft relaxing areas\nSupervised FREE play\nPLUS lots more FUN & creative activities\n\nTo make a booking or for any enquiries please complete the online booking form at https://forms.gle/1vGTGyFQ31jsoYSS7 \nsend a message at https://www.facebook.com/coachgunnbasketball/ \nemail Coach Gunn at coachmarkgunn@gmail.co \ncall/text/WhatsApp Coach Gunn on 07912 178917 \n\n 
URL:https://www.kirkbylonsdale.co.uk/event/coach-gunn-multi-sports-activity-day/2026-03-30/
LOCATION:Lunesdale Sports Centre\, Kendal Road\, Kirkby Lonsdale\, LA6 2HJ
CATEGORIES:Activities,Easter,For kids,Sport
ATTACH;FMTTYPE=image/jpeg:https://www.kirkbylonsdale.co.uk/wp-content/uploads/2026/03/fun-with-coach-gunn-easter-2026.jpg
END:VEVENT
BEGIN:VEVENT
DTSTART;TZID=Europe/London:20260331T090000
DTEND;TZID=Europe/London:20260331T160000
DTSTAMP:20260415T191858
CREATED:20260326T002711Z
LAST-MODIFIED:20260326T002711Z
UID:10002653-1774947600-1774972800@www.kirkbylonsdale.co.uk
SUMMARY:Coach Gunn Multi Sports & Activity Day
DESCRIPTION:Fun with Coach Gunn is back in Kirkby Lonsdale for the Easter Holidays! A day filled with multi sport fun for kids\, reception through to year 7\, at the Lunesdale Sports Hall. \nEach day will be… \n\n9am-4pm (with FREE 7:45am onwards drop off and up to 5pm pick up available)\nFull Day @ £24 per child = 9am-4pm with 7:45am-5pm extended hours\nHalf Day @ £15 per child = 7:45am-12:30pm / 12:30pm-5pm\nOpen to children starting Reception in September 2026 to current Y7 children with additional opportunities for Junior Coaches aged 13-17 plus Lead Coaches aged 18+.\n\nEach holiday club during 2026 will be led by Coach Gunn with a team of Lead & Junior Coaches featuring the below activities encouraging ALL the children to have lots of #FUNwithFriends… \n\nMulti Sports (Football\, Hockey\, Tag Rugby\, Basketball\, Dodgeball\, etc…)\nFUN games (Tag\, Detective\, Musical\, etc…)\nBouncy Castle\, Zorbs & Floor Surfing\nArchery & NERF challenges\nUV FUN games (Tag Games\, Face Painting\, Football\, Basketball\, Dodgeball\, Music\, etc…)\nPlatforms trampette & gymnastics mats\nLego & Let’s Craft relaxing areas\nSupervised FREE play\nPLUS lots more FUN & creative activities\n\nTo make a booking or for any enquiries please complete the online booking form at https://forms.gle/1vGTGyFQ31jsoYSS7 \nsend a message at https://www.facebook.com/coachgunnbasketball/ \nemail Coach Gunn at coachmarkgunn@gmail.co \ncall/text/WhatsApp Coach Gunn on 07912 178917 \n\n 
URL:https://www.kirkbylonsdale.co.uk/event/coach-gunn-multi-sports-activity-day/2026-03-31/
LOCATION:Lunesdale Sports Centre\, Kendal Road\, Kirkby Lonsdale\, LA6 2HJ
CATEGORIES:Activities,Easter,For kids,Sport
ATTACH;FMTTYPE=image/jpeg:https://www.kirkbylonsdale.co.uk/wp-content/uploads/2026/03/fun-with-coach-gunn-easter-2026.jpg
END:VEVENT
END:VCALENDAR